BEGIN:VCALENDAR
PRODID:-//kirchenweb.ch gmbh//veranstaltungsausgabe v2.0//DE
VERSION:2.0
METHOD:PUBLISH
BEGIN:VEVENT
DTSTART:20270425T073000Z
DTEND:20270425T083000Z
LOCATION:in der Grossen Kirche\, Kirchgasse 2\, 3250 Lyss
TRANSP:OPAQUE
SEQUENCE:0
UID:91492-veranstaltung@kirchenregion-aarberg.ch
DTSTAMP:20260416T080539Z
DESCRIPTION:Kinderwochenabschluss-Gottesdienst\n\nhttps://www.adonia.ch/\n
 \nIm Anschluss Hamburger-Essen für alle.\n\n\nKontakt: Pfr. Guido Jutzi\n
 \nWeitere Infos: https://www.kirchenregion-aarberg.ch/veranstaltung/91492
SUMMARY:Kinderwoche-Abschlussgottesdienst
PRIORITY:5
X-MICROSOFT-CDO-IMPORTANCE:1
CLASS:PUBLIC
END:VEVENT
END:VCALENDAR
