BEGIN:VCALENDAR
PRODID:-//kirchenweb.ch gmbh//veranstaltungsausgabe v2.0//DE
VERSION:2.0
METHOD:PUBLISH
BEGIN:VEVENT
DTSTART:20270414T120000Z
DTEND:20270414T133000Z
LOCATION:im Kirchgemeindehaus\, Raum Johannes\, Friedhofweg 2\, 3250 Lyss
TRANSP:OPAQUE
SEQUENCE:0
UID:90725-veranstaltung@kirchenregion-aarberg.ch
DTSTAMP:20260217T094302Z
DESCRIPTION:Kontakt: Gisela Haack\, Tel. 032 384 54 61 und Marianna
  Brechbühl\, Tel. 031 879 10 45\n\nWeitere Infos:
  https://www.kirchenregion-aarberg.ch/veranstaltung/90725
SUMMARY:Kreativträff
PRIORITY:5
X-MICROSOFT-CDO-IMPORTANCE:1
CLASS:PUBLIC
END:VEVENT
END:VCALENDAR
