BEGIN:VCALENDAR
PRODID:-//kirchenweb.ch gmbh//veranstaltungsausgabe v2.0//DE
VERSION:2.0
METHOD:PUBLISH
BEGIN:VEVENT
DTSTART:20270428T070000Z
DTEND:20270428T083000Z
LOCATION:im Kirchgemeindehaus\, Raum Johannes\, Friedhofweg 2\, 3250 Lyss
TRANSP:OPAQUE
SEQUENCE:0
UID:90607-veranstaltung@kirchenregion-aarberg.ch
DTSTAMP:20260212T073606Z
DESCRIPTION:Kontakt: Rosemarie Lehmann\, Tel. 032 384 68 41\n\nWeitere
  Infos: https://www.kirchenregion-aarberg.ch/veranstaltung/90607
SUMMARY:Sprachcafé (franz.)
PRIORITY:5
X-MICROSOFT-CDO-IMPORTANCE:1
CLASS:PUBLIC
END:VEVENT
END:VCALENDAR
