BEGIN:VCALENDAR
PRODID:-//kirchenweb.ch gmbh//veranstaltungsausgabe v2.0//DE
VERSION:2.0
METHOD:PUBLISH
BEGIN:VEVENT
DTSTART:20270413T120000Z
DTEND:20270413T130000Z
LOCATION:Auswärts\, \,
TRANSP:OPAQUE
SEQUENCE:0
UID:90548-veranstaltung@kirchenregion-aarberg.ch
DTSTAMP:20260211T151828Z
DESCRIPTION:Kontakt: Gerda Schütz\, Tel. 032 384 81 62 und Rosette
  Cicchini\, Tel. 032 384 38 85\n\nWeitere Infos:
  https://www.kirchenregion-aarberg.ch/veranstaltung/90548
SUMMARY:Aktivträff
PRIORITY:5
X-MICROSOFT-CDO-IMPORTANCE:1
CLASS:PUBLIC
END:VEVENT
END:VCALENDAR
