BEGIN:VCALENDAR
PRODID:-//kirchenweb.ch gmbh//veranstaltungsausgabe v2.0//DE
VERSION:2.0
METHOD:PUBLISH
BEGIN:VEVENT
DTSTART:20270429T123000Z
DTEND:20270429T143000Z
LOCATION:Kirchgemeindehaus\, Raum Johannes\, Friedhofweg 2\, 3250 Lyss
TRANSP:OPAQUE
SEQUENCE:0
UID:90528-veranstaltung@kirchenregion-aarberg.ch
DTSTAMP:20260211T130109Z
DESCRIPTION:Kontakt: Erika Zihlmann\, Tel. 032 387 17 05 oder 077 225 27
  05\nFahrdienst Siegrist\, Tel. 032 387 17 03\n\nWeitere Infos:
  https://www.kirchenregion-aarberg.ch/veranstaltung/90528
SUMMARY:Seniorenhöck
PRIORITY:5
X-MICROSOFT-CDO-IMPORTANCE:1
CLASS:PUBLIC
END:VEVENT
END:VCALENDAR
