BEGIN:VCALENDAR
PRODID:-//kirchenweb.ch gmbh//veranstaltungsausgabe v2.0//DE
VERSION:2.0
METHOD:PUBLISH
BEGIN:VEVENT
DTSTART:20260429T120000Z
DTEND:20260429T150000Z
LOCATION:im Caféglise\, Kirchgasse 4\, 3250 Lyss
TRANSP:OPAQUE
SEQUENCE:0
UID:89591-veranstaltung@kirchenregion-aarberg.ch
DTSTAMP:20260316T140923Z
DESCRIPTION:Viele Familien geniessen unseren liebevoll gestalteten
  Vorschulkinder-Spielplatz der Spielgruppe «Schatzchischte» bei der
  Grossen Kirche bereits regelmässig.\n\nDas Café ist zurzeit jeweils
  mittwochs zwischen 14 und 17 Uhr für Sie geöffnet. Wir servieren Ihnen
  gerne ein warmes oder kaltes Getränk; zusätzlich haben wir auch diverse
  Glacen im Angebot. \nEs dürfen (drinnen und draussen) auch eigene
  alkoholfreie Lebensmittel konsumiert werden. Auf Wunsch bringen wir Ihnen
  Ihr Getränk auch gerne nach draussen an den gemütlichen Holztisch oder
  Sie dürfen es als Take-away mitnehmen.\n\nDa wir damit nicht Geld
  verdienen wollen\, sondern ein günstiges Angebot offerieren möchten\,
  gibt es bei uns alles zum Selbstkostenpreis ().\n\nWir freuen uns auf
  Sie!\n\nKontakt: Pfr. Guido Jutzi / Im Einsatz Marie Jakob\n\nWeitere
  Infos: https://www.kirchenregion-aarberg.ch/veranstaltung/89591
SUMMARY:Spielplatz-Café
PRIORITY:5
X-MICROSOFT-CDO-IMPORTANCE:1
CLASS:PUBLIC
END:VEVENT
END:VCALENDAR
