BEGIN:VCALENDAR
PRODID:-//kirchenweb.ch gmbh//veranstaltungsausgabe v2.0//DE
VERSION:2.0
METHOD:PUBLISH
BEGIN:VEVENT
DTSTART:20261213T100000Z
DTEND:20261213T110000Z
LOCATION:in der Alten Kirche\, Herrengasse 44\, 3250 Lyss
TRANSP:OPAQUE
SEQUENCE:0
UID:88346-veranstaltung@kirchenregion-aarberg.ch
DTSTAMP:20251208T102049Z
DESCRIPTION:Kontakt: Pfr. Guido Jutzi\n\nMaura Schnegg\n\nWeitere Infos:
  https://www.kirchenregion-aarberg.ch/veranstaltung/88346
SUMMARY:KIGO-Tego-Weihnachtsfeier
PRIORITY:5
X-MICROSOFT-CDO-IMPORTANCE:1
CLASS:PUBLIC
END:VEVENT
END:VCALENDAR
