BEGIN:VCALENDAR
PRODID:-//kirchenweb.ch gmbh//veranstaltungsausgabe v2.0//DE
VERSION:2.0
METHOD:PUBLISH
BEGIN:VEVENT
DTSTART:20261213T160000Z
DTEND:20261213T170000Z
LOCATION:in der Grossen Kirche\, Kirchgasse 2\, 3250 Lyss
TRANSP:OPAQUE
SEQUENCE:0
UID:87705-veranstaltung@kirchenregion-aarberg.ch
DTSTAMP:20251120T122410Z
DESCRIPTION:Offenes Adventssingen für Alle\n\nKontakt: Toni Clerc\n
 \nWeitere Infos: https://www.kirchenregion-aarberg.ch/veranstaltung/87705
SUMMARY:Offenes Adventssingen
PRIORITY:5
X-MICROSOFT-CDO-IMPORTANCE:1
CLASS:PUBLIC
END:VEVENT
END:VCALENDAR
