BEGIN:VCALENDAR
PRODID:-//kirchenweb.ch gmbh//veranstaltungsausgabe v2.0//DE
VERSION:2.0
METHOD:PUBLISH
BEGIN:VEVENT
DTSTART:20261130T184500Z
DTEND:20261130T201500Z
LOCATION:Kirchgemeindehaus\, im grossen Saal\, Friedhofweg 2\, 3250 Lyss
TRANSP:OPAQUE
SEQUENCE:0
UID:87675-veranstaltung@kirchenregion-aarberg.ch
DTSTAMP:20260310T102747Z
DESCRIPTION:Wir proben normalerweise ab 19.45 Uhr im Kirchgemeindehaus\,
  vor Auftritten in Gottesdiensten oder Konzerten in der Grossen Kirche.
 \nNeue Sängerinnen und Sänger sind jederzeit herzlich willkommen. Wir
  singen verschiedene Stilrichtungen.\n\nAuskunft erteilen gerne:\n
 \nDirigentin\nKordula Gisler\, Rüfenachtweg 3\, 3006 Bern\,
  kordula.gisler@kirchenregion-aarberg.ch\, 032 311 18 50\nPräsident
 \nAnton Clerc\, Friedhofweg 2\, 3250 Lyss\,
  anton.clerc@kirchenregion-aarberg.ch\, 079 218 33 10\n
 \nhttp://www.kirchenchor-lyss.ch\n\nKontakt:
  pk.lyss@kirchenregion-aarberg.ch\n\nWeitere Infos:
  https://www.kirchenregion-aarberg.ch/veranstaltung/87675
SUMMARY:Kirchenchorprobe
PRIORITY:5
X-MICROSOFT-CDO-IMPORTANCE:1
CLASS:PUBLIC
END:VEVENT
END:VCALENDAR
