BEGIN:VCALENDAR
PRODID:-//kirchenweb.ch gmbh//veranstaltungsausgabe v2.0//DE
VERSION:2.0
METHOD:PUBLISH
BEGIN:VEVENT
DTSTART:20260613T120000Z
DTEND:20260613T150000Z
LOCATION:Schulhaus Ammerzwil\, \,
TRANSP:OPAQUE
SEQUENCE:0
UID:87614-veranstaltung@kirchenregion-aarberg.ch
DTSTAMP:20251118T111013Z
DESCRIPTION:Für den Fahrdienst telefonisch\, per WhatsApp oder Email bis
  spätestens Freitagmittag 11.30 Uhr im Sekretariat melden: 032 387 17 07
  oder info@kirche-lyss.ch.\n\nKontakt: Jonathan Gilgen\, 079 252 38 39\n
 \nPfr. Guido Jutzi\n\nWeitere Infos:
  https://www.kirchenregion-aarberg.ch/veranstaltung/87614
SUMMARY:Jungschar Ammischaddai
PRIORITY:5
X-MICROSOFT-CDO-IMPORTANCE:1
CLASS:PUBLIC
END:VEVENT
END:VCALENDAR
