BEGIN:VCALENDAR
PRODID:-//kirchenweb.ch gmbh//veranstaltungsausgabe v2.0//DE
VERSION:2.0
METHOD:PUBLISH
BEGIN:VEVENT
DTSTART:20260630T081500Z
DTEND:20260630T091500Z
LOCATION:im Altersheim Lyss-Busswil\, Hauptstrasse 40\, 3250 Lyss
TRANSP:OPAQUE
SEQUENCE:0
UID:87508-veranstaltung@kirchenregion-aarberg.ch
DTSTAMP:20251113T084337Z
DESCRIPTION:Kontakt: Pfr. Ueli Burkhalter\n\nWeitere Infos:
  https://www.kirchenregion-aarberg.ch/veranstaltung/87508
SUMMARY:Gottesdienst im Altersheim Lyss-Busswil
PRIORITY:5
X-MICROSOFT-CDO-IMPORTANCE:1
CLASS:PUBLIC
END:VEVENT
END:VCALENDAR
