BEGIN:VCALENDAR
PRODID:-//kirchenweb.ch gmbh//veranstaltungsausgabe v2.0//DE
VERSION:2.0
METHOD:PUBLISH
BEGIN:VEVENT
DTSTART:20260429T073000Z
DTEND:20260429T090000Z
LOCATION:Auswärts\, Schulgasse 5\, 3250 Lyss
TRANSP:OPAQUE
SEQUENCE:0
UID:87369-veranstaltung@kirchenregion-aarberg.ch
DTSTAMP:20251202T142412Z
DESCRIPTION:Kontakt: Familienpunkt Silke Schurig\, 032 530 40 29\n
 \nWeitere Infos: https://www.kirchenregion-aarberg.ch/veranstaltung/87369
SUMMARY:Müttertreff und Müttertreff DEUTSCH
PRIORITY:5
X-MICROSOFT-CDO-IMPORTANCE:1
CLASS:PUBLIC
END:VEVENT
END:VCALENDAR
