BEGIN:VCALENDAR
PRODID:-//kirchenweb.ch gmbh//veranstaltungsausgabe v2.0//DE
VERSION:2.0
METHOD:PUBLISH
BEGIN:VEVENT
DTSTART:20260601T173000Z
DTEND:20260601T193000Z
LOCATION:im Kirchgemeindehaus\, Raum Johannes\, Friedhofweg 2\, 3250 Lyss
TRANSP:OPAQUE
SEQUENCE:0
UID:87345-veranstaltung@kirchenregion-aarberg.ch
DTSTAMP:20260318T160228Z
DESCRIPTION:Kontakt: Ursula Baumgartner\, Tel. 032 384 60 14 und Gerda
  Schütz\, Tel. 032 384 81 62  \n\nWeitere Infos:
  https://www.kirchenregion-aarberg.ch/veranstaltung/87345
SUMMARY:Literaturcafé
PRIORITY:5
X-MICROSOFT-CDO-IMPORTANCE:1
CLASS:PUBLIC
END:VEVENT
END:VCALENDAR
