BEGIN:VCALENDAR
PRODID:-//kirchenweb.ch gmbh//veranstaltungsausgabe v2.0//DE
VERSION:2.0
METHOD:PUBLISH
BEGIN:VEVENT
DTSTART:20260811T130000Z
DTEND:20260811T133000Z
LOCATION:Attika im alten Weiherhaus\, Hauptstrasse 75\, 3252 Worben
TRANSP:OPAQUE
SEQUENCE:0
UID:86878-veranstaltung@kirchenregion-aarberg.ch
DTSTAMP:20260126T154232Z
DESCRIPTION:Kontakt: Pfrn. Simone Münch-Egli\, 076 281 32 12\n\nWeitere
  Infos: https://www.kirchenregion-aarberg.ch/veranstaltung/86878
SUMMARY:Gottesdienst im Seelandheim Worben mit Abendmahl
PRIORITY:5
X-MICROSOFT-CDO-IMPORTANCE:1
CLASS:PUBLIC
END:VEVENT
END:VCALENDAR
