BEGIN:VCALENDAR
PRODID:-//kirchenweb.ch gmbh//veranstaltungsausgabe v2.0//DE
VERSION:2.0
METHOD:PUBLISH
BEGIN:VEVENT
DTSTART:20260421T130000Z
DTEND:20260421T133000Z
LOCATION:Attika im alten Weiherhaus\, Hauptstrasse 75\, 3252 Worben
TRANSP:OPAQUE
SEQUENCE:0
UID:86875-veranstaltung@kirchenregion-aarberg.ch
DTSTAMP:20260127T121539Z
DESCRIPTION:Kontakt: Pfr. Ueli von Känel\n\nWeitere Infos:
  https://www.kirchenregion-aarberg.ch/veranstaltung/86875
SUMMARY:Gottesdienst im Seelandheim Worben
PRIORITY:5
X-MICROSOFT-CDO-IMPORTANCE:1
CLASS:PUBLIC
END:VEVENT
END:VCALENDAR
