BEGIN:VCALENDAR
PRODID:-//kirchenweb.ch gmbh//veranstaltungsausgabe v2.0//DE
VERSION:2.0
METHOD:PUBLISH
BEGIN:VEVENT
DTSTART:20261119T143000Z
DTEND:20261119T151500Z
LOCATION:Tertianum Lyssbachpark\, Steinweg 24\, 3250 Lyss
TRANSP:OPAQUE
SEQUENCE:0
UID:86852-veranstaltung@kirchenregion-aarberg.ch
DTSTAMP:20251010T062522Z
DESCRIPTION:Kontakt: Pfrn. Geraldine Walther\n\nWeitere Infos:
  https://www.kirchenregion-aarberg.ch/veranstaltung/86852
SUMMARY:Gottesdienst im Tertianum Lyssbachpark - Gedenkfeier für
  Verstorbene
PRIORITY:5
X-MICROSOFT-CDO-IMPORTANCE:1
CLASS:PUBLIC
END:VEVENT
END:VCALENDAR
