BEGIN:VCALENDAR
PRODID:-//kirchenweb.ch gmbh//veranstaltungsausgabe v2.0//DE
VERSION:2.0
METHOD:PUBLISH
BEGIN:VEVENT
DTSTART:20260621T073000Z
DTEND:20260621T083000Z
LOCATION:in der Grossen Kirche\, Kirchgasse 2\, 3250 Lyss
TRANSP:OPAQUE
SEQUENCE:0
UID:86816-veranstaltung@kirchenregion-aarberg.ch
DTSTAMP:20260410T082704Z
DESCRIPTION:An der Orgel spielt Käthi Werder\nKollekte: GKK HEKS
  Flüchtlingsdienst\nCaféglise im Anschluss an den Gottesdienst im alten
  Pfarrhaus.\n\nKontakt: Pfr. Ueli von Känel\n\nWeitere Infos:
  https://www.kirchenregion-aarberg.ch/veranstaltung/86816
SUMMARY:Gottesdienst
PRIORITY:5
X-MICROSOFT-CDO-IMPORTANCE:1
CLASS:PUBLIC
END:VEVENT
END:VCALENDAR
