BEGIN:VCALENDAR
PRODID:-//kirchenweb.ch gmbh//veranstaltungsausgabe v2.0//DE
VERSION:2.0
METHOD:PUBLISH
BEGIN:VEVENT
DTSTART:20260607T073000Z
DTEND:20260607T083000Z
LOCATION:in der Grossen Kirche\, Kirchgasse 2\, 3250 Lyss
TRANSP:OPAQUE
SEQUENCE:0
UID:86814-veranstaltung@kirchenregion-aarberg.ch
DTSTAMP:20260410T082252Z
DESCRIPTION:An der Orgel spielt Käthi Werder\n\nCaféglise im Anschluss
  an den Gottesdienst im alten Pfarrhaus.\n\nKontakt: Pfr. Guido Jutzi\n
 \nWeitere Infos: https://www.kirchenregion-aarberg.ch/veranstaltung/86814
SUMMARY:Gottesdienst
PRIORITY:5
X-MICROSOFT-CDO-IMPORTANCE:1
CLASS:PUBLIC
END:VEVENT
END:VCALENDAR
