BEGIN:VCALENDAR
PRODID:-//kirchenweb.ch gmbh//veranstaltungsausgabe v2.0//DE
VERSION:2.0
METHOD:PUBLISH
BEGIN:VEVENT
DTSTART:20260531T073000Z
DTEND:20260531T083000Z
LOCATION:in der Grossen Kirche\, Kirchgasse 2\, 3250 Lyss
TRANSP:OPAQUE
SEQUENCE:0
UID:86813-veranstaltung@kirchenregion-aarberg.ch
DTSTAMP:20260122T133912Z
DESCRIPTION:An der Orgel spielt Robert Märki 
 \nhttps://www.seelandheim.ch/\n\n\nKontakt: Pfr. Ueli von Känel\n
 \nWeitere Infos: https://www.kirchenregion-aarberg.ch/veranstaltung/86813
SUMMARY:Gottesdienst
PRIORITY:5
X-MICROSOFT-CDO-IMPORTANCE:1
CLASS:PUBLIC
END:VEVENT
END:VCALENDAR
