BEGIN:VCALENDAR
PRODID:-//kirchenweb.ch gmbh//veranstaltungsausgabe v2.0//DE
VERSION:2.0
METHOD:PUBLISH
BEGIN:VEVENT
DTSTART:20260627T073000Z
DTEND:20260627T093000Z
LOCATION:Auswärts\, Schulgasse 5\, 3250 Lyss
TRANSP:OPAQUE
SEQUENCE:0
UID:86492-veranstaltung@kirchenregion-aarberg.ch
DTSTAMP:20250922T083007Z
DESCRIPTION:Kontakt: Philippe Häni\, Väterberater\, 079 853 40 26 oder
  vaeter@mvb-be.ch\nFamilienpunkt Silke Schurig\, 032 530 40 29 \n\n
 \nWeitere Infos: https://www.kirchenregion-aarberg.ch/veranstaltung/86492
SUMMARY:Vater-Kind-Treff im Familienpunkt
PRIORITY:5
X-MICROSOFT-CDO-IMPORTANCE:1
CLASS:PUBLIC
END:VEVENT
END:VCALENDAR
