BEGIN:VCALENDAR
PRODID:-//kirchenweb.ch gmbh//veranstaltungsausgabe v2.0//DE
VERSION:2.0
METHOD:PUBLISH
BEGIN:VEVENT
DTSTART:20260423T170000Z
DTEND:20260423T190000Z
LOCATION:im Caféglise \, Kirchgasse 4\, 3250 Lyss
TRANSP:OPAQUE
SEQUENCE:0
UID:86422-veranstaltung@kirchenregion-aarberg.ch
DTSTAMP:20260127T124154Z
DESCRIPTION:Diskus ist eine vielfarbige Gruppe\, die von verschiedenen
  Meinungen lebt.\nWir diskutieren über Gott und die Welt\, insbesondere
  über Themen\naus der Bibel.\n\nKontakt: Pfrn. Geraldine Walther\n
 \nWeitere Infos: https://www.kirchenregion-aarberg.ch/veranstaltung/86422
SUMMARY:Diskus - Offene Gesprächsrunde
PRIORITY:5
X-MICROSOFT-CDO-IMPORTANCE:1
CLASS:PUBLIC
END:VEVENT
END:VCALENDAR
