BEGIN:VCALENDAR
PRODID:-//kirchenweb.ch gmbh//veranstaltungsausgabe v2.0//DE
VERSION:2.0
METHOD:PUBLISH
BEGIN:VEVENT
DTSTART:20261125T180000Z
DTEND:20261125T190000Z
LOCATION:im Kirchgemeindehaus\, Friedhofweg 2\, 3250 Lyss
TRANSP:OPAQUE
SEQUENCE:0
UID:85890-veranstaltung@kirchenregion-aarberg.ch
DTSTAMP:20250828T072853Z
DESCRIPTION:Traktanden:\n\n\n\nWeitere Informationen finden Sie unter
  https://www.kirche-lyss.ch/kirchgemeindeversammlung\n\nKontakt: Gerhard
  Leuenberger\n\nWeitere Infos:
  https://www.kirchenregion-aarberg.ch/veranstaltung/85890
SUMMARY:Kirchgemeindeversammlung
PRIORITY:5
X-MICROSOFT-CDO-IMPORTANCE:1
CLASS:PUBLIC
END:VEVENT
END:VCALENDAR
