BEGIN:VCALENDAR
PRODID:-//kirchenweb.ch gmbh//veranstaltungsausgabe v2.0//DE
VERSION:2.0
METHOD:PUBLISH
BEGIN:VEVENT
DTSTART:20261122T150000Z
DTEND:20261122T160000Z
LOCATION:in der Grossen Kirche\, Kirchgasse 2\, 3250 Lyss
TRANSP:OPAQUE
SEQUENCE:0
UID:85652-veranstaltung@kirchenregion-aarberg.ch
DTSTAMP:20260410T093524Z
DESCRIPTION:Kontakt: Herr Studer\, 079 323 06 34\n\nWeitere Infos:
  https://www.kirchenregion-aarberg.ch/veranstaltung/85652
SUMMARY:Konzert AKKORDEON Lyss
PRIORITY:5
X-MICROSOFT-CDO-IMPORTANCE:1
CLASS:PUBLIC
END:VEVENT
END:VCALENDAR
