BEGIN:VCALENDAR
PRODID:-//kirchenweb.ch gmbh//veranstaltungsausgabe v2.0//DE
VERSION:2.0
METHOD:PUBLISH
BEGIN:VEVENT
DTSTART:20261101T181500Z
DTEND:20261101T190000Z
LOCATION:in der alten Kirche\, Kirchgasse 4\, 3250 Lyss
TRANSP:OPAQUE
SEQUENCE:0
UID:85060-veranstaltung@kirchenregion-aarberg.ch
DTSTAMP:20251218T073421Z
DESCRIPTION:Was zeichnet eine Taizé Abendfeier aus? Unaufdringlich\,
  schlicht und schön\, das sind die Stärken eines Taizé Gebets. Getragen
  von den meditativen\, sich wiederholenden Gesängen\, die in der Stille
  des Herzens weiterklingen\, wenn man wieder alleine ist. Wort\, Gesang
  und Stille führen in eine innige Gemeinschaft mit Gott.\n\nWir laden zur
  ökumenischen Abendfeier mit Taizéliedern\, Gebeten\, Texten und Stille
  ein. Durch das Jahr hindurch am ersten Sonntag im Monat (ausser
  Juni/Juli/August). Wir treffen uns in der alten Kirche 19.15-20.00 Uhr\,
  Kirchgasse 4\, Lyss. Alle sind herzlich willkommen.\n\n\nKontakt: Markus
  Bütikofer\n\nWeitere Infos:
  https://www.kirchenregion-aarberg.ch/veranstaltung/85060
SUMMARY:Taizé Abendfeier
PRIORITY:5
X-MICROSOFT-CDO-IMPORTANCE:1
CLASS:PUBLIC
END:VEVENT
END:VCALENDAR
