BEGIN:VCALENDAR
PRODID:-//kirchenweb.ch gmbh//veranstaltungsausgabe v2.0//DE
VERSION:2.0
METHOD:PUBLISH
BEGIN:VEVENT
DTSTART:20260531T073000Z
DTEND:20260531T090000Z
LOCATION:im Fischlikeller\, Kirchgasse 4\, 3250 Lyss
TRANSP:OPAQUE
SEQUENCE:0
UID:84985-veranstaltung@kirchenregion-aarberg.ch
DTSTAMP:20250716T112923Z
DESCRIPTION:Kids ab 11 Jahren laden wir zum Teeniegottesdienst "Tego" ein.
  Dich erwartet ein fetziges Programm mit Spiel und Spass und biblischen
  Geschichten. \n\nKontakt: Maura Schnegg\n\nWeitere Infos:
  https://www.kirchenregion-aarberg.ch/veranstaltung/84985
SUMMARY:Tego
PRIORITY:5
X-MICROSOFT-CDO-IMPORTANCE:1
CLASS:PUBLIC
END:VEVENT
END:VCALENDAR
