BEGIN:VCALENDAR
PRODID:-//kirchenweb.ch gmbh//veranstaltungsausgabe v2.0//DE
VERSION:2.0
METHOD:PUBLISH
BEGIN:VEVENT
DTSTART:20260830T073000Z
DTEND:20260830T090000Z
LOCATION:Kirchgemeindehaus\, im Jugendraum\, Friedhofweg 2\, 3250 Lyss
TRANSP:OPAQUE
SEQUENCE:0
UID:84915-veranstaltung@kirchenregion-aarberg.ch
DTSTAMP:20250716T092017Z
DESCRIPTION:Kontakt: Pfr. Guido Jutzi\n\nWeitere Infos:
  https://www.kirchenregion-aarberg.ch/veranstaltung/84915
SUMMARY:KIGO
PRIORITY:5
X-MICROSOFT-CDO-IMPORTANCE:1
CLASS:PUBLIC
END:VEVENT
END:VCALENDAR
