BEGIN:VCALENDAR
PRODID:-//kirchenweb.ch gmbh//veranstaltungsausgabe v2.0//DE
VERSION:2.0
METHOD:PUBLISH
BEGIN:VEVENT
DTSTART:20260530T173000Z
DTEND:20260530T183000Z
LOCATION:in der Grossen Kirche\, Kirchgasse 2\, 3250 Lyss
TRANSP:OPAQUE
SEQUENCE:0
UID:83737-veranstaltung@kirchenregion-aarberg.ch
DTSTAMP:20250707T130847Z
DESCRIPTION:Kontakt: pk.lyss@kirchenregion-aarberg.ch\n\nWeitere Infos:
  https://www.kirchenregion-aarberg.ch/veranstaltung/83737
SUMMARY:Sommerkonzert Orchester Lyss
PRIORITY:5
X-MICROSOFT-CDO-IMPORTANCE:1
CLASS:PUBLIC
END:VEVENT
END:VCALENDAR
