BEGIN:VCALENDAR
PRODID:-//kirchenweb.ch gmbh//veranstaltungsausgabe v2.0//DE
VERSION:2.0
METHOD:PUBLISH
BEGIN:VEVENT
DTSTART:20260428T140000Z
DTEND:20260428T180000Z
LOCATION:Kirchgemeindehaus\, Friedhofweg 2\, 3250 Lyss
TRANSP:OPAQUE
SEQUENCE:0
UID:83380-veranstaltung@kirchenregion-aarberg.ch
DTSTAMP:20250507T114611Z
DESCRIPTION:Kontakt: Frau Nelly Wüthrich\, Tel. 032 384 35 76\n\nWeitere
  Infos: https://www.kirchenregion-aarberg.ch/veranstaltung/83380
SUMMARY:Blutspenden\, Samariterverein Lyss
PRIORITY:5
X-MICROSOFT-CDO-IMPORTANCE:1
CLASS:PUBLIC
END:VEVENT
END:VCALENDAR
