BEGIN:VCALENDAR
PRODID:-//kirchenweb.ch gmbh//veranstaltungsausgabe v2.0//DE
VERSION:2.0
METHOD:PUBLISH
BEGIN:VEVENT
DTSTART:20260819T164500Z
DTEND:20260819T181500Z
LOCATION:Kirchgemeindehaus\, im Tanzraum\, Friedhofweg 2\, 3250 Lyss
TRANSP:OPAQUE
SEQUENCE:0
UID:83224-veranstaltung@kirchenregion-aarberg.ch
DTSTAMP:20250408T130159Z
DESCRIPTION:Ein Streetdance - Angebot für junge Frauen zwischen 12 und 20
  Jahren.\n\nInfos zu allen Lysser roundabout Tanzgruppen findest du
  https://www.kirchenregion-aarberg.ch/kg/lyss/roundabout-lyss\n\nKontakt:
  Maura Schnegg\n\nWeitere Infos:
  https://www.kirchenregion-aarberg.ch/veranstaltung/83224
SUMMARY:"roundabout" Youth\,
PRIORITY:5
X-MICROSOFT-CDO-IMPORTANCE:1
CLASS:PUBLIC
END:VEVENT
END:VCALENDAR
