BEGIN:VCALENDAR
PRODID:-//kirchenweb.ch gmbh//veranstaltungsausgabe v2.0//DE
VERSION:2.0
METHOD:PUBLISH
BEGIN:VEVENT
DTSTART:20260630T161000Z
DTEND:20260630T172500Z
LOCATION:Kirchgemeindehaus\, im Tanzraum\, Friedhofweg 2\, 3250 Lyss
TRANSP:OPAQUE
SEQUENCE:0
UID:83180-veranstaltung@kirchenregion-aarberg.ch
DTSTAMP:20250408T125509Z
DESCRIPTION:Ein Streetdance-Angebot für Mädchen von 8 – 11 Jahren.\n
 \nInfos zu allen Lysser roundabout Tanzgruppen finden Sie
  https://www.kirchenregion-aarberg.ch/kg/lyss/roundabout-lyss\n\nKontakt:
  Maura Schnegg\n\nWeitere Infos:
  https://www.kirchenregion-aarberg.ch/veranstaltung/83180
SUMMARY:"roundabout" Kids\,
PRIORITY:5
X-MICROSOFT-CDO-IMPORTANCE:1
CLASS:PUBLIC
END:VEVENT
END:VCALENDAR
