BEGIN:VCALENDAR
PRODID:-//kirchenweb.ch gmbh//veranstaltungsausgabe v2.0//DE
VERSION:2.0
METHOD:PUBLISH
BEGIN:VEVENT
DTSTART:20260505T120000Z
DTEND:20260505T150000Z
LOCATION:Alterssiedlung\, Zeughausstrasse 29\, 3250 Lyss
TRANSP:OPAQUE
SEQUENCE:0
UID:83027-veranstaltung@kirchenregion-aarberg.ch
DTSTAMP:20250507T073523Z
DESCRIPTION:Kontakt: Paul Schwab\, Tel. 078 658 24 31\, eMail:
  paulschwab@gmx.ch\nFahrdienst: Sigrist\, Tel. 032 387 17 03\n\nWeitere
  Infos: https://www.kirchenregion-aarberg.ch/veranstaltung/83027
SUMMARY:Senioren-Spielnachmittag Alterssiedlung
PRIORITY:5
X-MICROSOFT-CDO-IMPORTANCE:1
CLASS:PUBLIC
END:VEVENT
END:VCALENDAR
