BEGIN:VCALENDAR
PRODID:-//kirchenweb.ch gmbh//veranstaltungsausgabe v2.0//DE
VERSION:2.0
METHOD:PUBLISH
BEGIN:VEVENT
DTSTART:20261205T190000Z
DTEND:20261205T210000Z
LOCATION:in der Grossen Kirche\, Kirchgasse 2\, 3250 Lyss
TRANSP:OPAQUE
SEQUENCE:0
UID:82629-veranstaltung@kirchenregion-aarberg.ch
DTSTAMP:20260326T075450Z
DESCRIPTION:Kontakt: pk.lyss@kirchenregion-aarberg.ch\n\nWeitere Infos:
  https://www.kirchenregion-aarberg.ch/veranstaltung/82629
SUMMARY:The Moor Train Fellows Gospelkonzert
PRIORITY:5
X-MICROSOFT-CDO-IMPORTANCE:1
CLASS:PUBLIC
END:VEVENT
END:VCALENDAR
