BEGIN:VCALENDAR
PRODID:-//kirchenweb.ch gmbh//veranstaltungsausgabe v2.0//DE
VERSION:2.0
METHOD:PUBLISH
BEGIN:VEVENT
DTSTART:20260616T120000Z
DTEND:20260616T150000Z
LOCATION:Kirchgemeindehaus\, im grossen Saal\, Friedhofweg 2\, 3250 Lyss
TRANSP:OPAQUE
SEQUENCE:0
UID:82613-veranstaltung@kirchenregion-aarberg.ch
DTSTAMP:20251119T141653Z
DESCRIPTION:Kontakt: Paul Schwab\, Tel. 078 658 24 31\, eMail:
  paulschwab@gmx.ch\nFahrdienst Sigrist\, Tel. 032 387 17 03\n\nWeitere
  Infos: https://www.kirchenregion-aarberg.ch/veranstaltung/82613
SUMMARY:Senioren-Spielnachmittag KGH
PRIORITY:5
X-MICROSOFT-CDO-IMPORTANCE:1
CLASS:PUBLIC
END:VEVENT
END:VCALENDAR
