BEGIN:VCALENDAR
PRODID:-//kirchenweb.ch gmbh//veranstaltungsausgabe v2.0//DE
VERSION:2.0
METHOD:PUBLISH
BEGIN:VEVENT
DTSTART:20261118T130000Z
DTEND:20261118T143000Z
LOCATION:im Kirchgemeindehaus\, Raum Johannes\, Friedhofweg 2\, 3250 Lyss
TRANSP:OPAQUE
SEQUENCE:0
UID:82607-veranstaltung@kirchenregion-aarberg.ch
DTSTAMP:20260225T091220Z
DESCRIPTION:Programmplanung 2027\n\nKontakt: Gisela Haack\, Tel. 032 384
  54 61 und Marianna Brechbühl\, Tel. 031 879 10 45\n\nWeitere Infos:
  https://www.kirchenregion-aarberg.ch/veranstaltung/82607
SUMMARY:Kreativträff
PRIORITY:5
X-MICROSOFT-CDO-IMPORTANCE:1
CLASS:PUBLIC
END:VEVENT
END:VCALENDAR
