BEGIN:VCALENDAR
PRODID:-//kirchenweb.ch gmbh//veranstaltungsausgabe v2.0//DE
VERSION:2.0
METHOD:PUBLISH
BEGIN:VEVENT
DTSTART:20260520T120000Z
DTEND:20260520T133000Z
LOCATION:im Kirchgemeindehaus\, Raum Johannes\, Friedhofweg 2\, 3250 Lyss
TRANSP:OPAQUE
SEQUENCE:0
UID:82601-veranstaltung@kirchenregion-aarberg.ch
DTSTAMP:20260225T090625Z
DESCRIPTION:Seidenmalerei\n\nKontakt: Gisela Haack\, Tel. 032 384 54 61
  und Marianna Brechbühl\, Tel. 031 879 10 45\n\nWeitere Infos:
  https://www.kirchenregion-aarberg.ch/veranstaltung/82601
SUMMARY:Kreativträff
PRIORITY:5
X-MICROSOFT-CDO-IMPORTANCE:1
CLASS:PUBLIC
END:VEVENT
END:VCALENDAR
