BEGIN:VCALENDAR
PRODID:-//kirchenweb.ch gmbh//veranstaltungsausgabe v2.0//DE
VERSION:2.0
METHOD:PUBLISH
BEGIN:VEVENT
DTSTART:20261124T130000Z
DTEND:20261124T143000Z
LOCATION:im Kirchgemeindehaus\, Friedhofweg 2\, 3250 Lyss
TRANSP:OPAQUE
SEQUENCE:0
UID:82596-veranstaltung@kirchenregion-aarberg.ch
DTSTAMP:20251112T134737Z
DESCRIPTION:Kontakt: Monika Herz\, Tel. 032 384 72 05\n\n\nWeitere Infos:
  https://www.kirchenregion-aarberg.ch/veranstaltung/82596
SUMMARY:Erlebnisgruppe - Programmplanung
PRIORITY:5
X-MICROSOFT-CDO-IMPORTANCE:1
CLASS:PUBLIC
END:VEVENT
END:VCALENDAR
