BEGIN:VCALENDAR
PRODID:-//kirchenweb.ch gmbh//veranstaltungsausgabe v2.0//DE
VERSION:2.0
METHOD:PUBLISH
BEGIN:VEVENT
DTSTART:20260526T120000Z
DTEND:20260526T130000Z
LOCATION:Auswärts\, \,
TRANSP:OPAQUE
SEQUENCE:0
UID:82590-veranstaltung@kirchenregion-aarberg.ch
DTSTAMP:20251106T074059Z
DESCRIPTION:Zeit und Ort nach Programm\n\nKontakt: Monika Herz\, Tel. 032
  384 72 05\n\n\nWeitere Infos:
  https://www.kirchenregion-aarberg.ch/veranstaltung/82590
SUMMARY:Erlebnisgruppe
PRIORITY:5
X-MICROSOFT-CDO-IMPORTANCE:1
CLASS:PUBLIC
END:VEVENT
END:VCALENDAR
