BEGIN:VCALENDAR
PRODID:-//kirchenweb.ch gmbh//veranstaltungsausgabe v2.0//DE
VERSION:2.0
METHOD:PUBLISH
BEGIN:VEVENT
DTSTART:20260428T054500Z
DTEND:20260428T064500Z
LOCATION:Auswärts\, \,
TRANSP:OPAQUE
SEQUENCE:0
UID:82589-veranstaltung@kirchenregion-aarberg.ch
DTSTAMP:20260417T071734Z
DESCRIPTION:Erlebnisgruppe - Besuch "Chaplin's World" in
  Corsier-sur-Vevey. Treffpunkt Bahnhof Lyss um 7.45 Uhr\, Abfahrt Zug via
  Biel nach Vevey um 8.00 Uhr. Auskunft und Anmeldung: Monika Herz\, Tel.
  032 384 72 05 und Susanna Montero\, Tel. 079 355 38 81.\n\nKontakt:
  Monika Herz\, Tel. 032 384 72 05\n\n\nWeitere Infos:
  https://www.kirchenregion-aarberg.ch/veranstaltung/82589
SUMMARY:Erlebnisgruppe
PRIORITY:5
X-MICROSOFT-CDO-IMPORTANCE:1
CLASS:PUBLIC
END:VEVENT
END:VCALENDAR
