BEGIN:VCALENDAR
PRODID:-//kirchenweb.ch gmbh//veranstaltungsausgabe v2.0//DE
VERSION:2.0
METHOD:PUBLISH
BEGIN:VEVENT
DTSTART:20260521T123000Z
DTEND:20260521T133000Z
LOCATION:nach Bekanntgabe\, \,
TRANSP:OPAQUE
SEQUENCE:0
UID:82566-veranstaltung@kirchenregion-aarberg.ch
DTSTAMP:20250220T093727Z
DESCRIPTION:Kontakt: Gisela Haack\, Tel. 032 384 54 61\n\nWeitere Infos:
  https://www.kirchenregion-aarberg.ch/veranstaltung/82566
SUMMARY:Mobile-Treff
PRIORITY:5
X-MICROSOFT-CDO-IMPORTANCE:1
CLASS:PUBLIC
END:VEVENT
END:VCALENDAR
