BEGIN:VCALENDAR
PRODID:-//kirchenweb.ch gmbh//veranstaltungsausgabe v2.0//DE
VERSION:2.0
METHOD:PUBLISH
BEGIN:VEVENT
DTSTART:20261107T190000Z
DTEND:20261107T210000Z
LOCATION:in der Grossen Kirche\, Kirchgasse 2\, 3250 Lyss
TRANSP:OPAQUE
SEQUENCE:0
UID:82394-veranstaltung@kirchenregion-aarberg.ch
DTSTAMP:20250812T134500Z
DESCRIPTION:Kontakt: pk.lyss@kirchenregion-aarberg.ch\n\nWeitere Infos:
  https://www.kirchenregion-aarberg.ch/veranstaltung/82394
SUMMARY:Kirchenkonzert der Musikgesellschaft Kappelen-Werdt
PRIORITY:5
X-MICROSOFT-CDO-IMPORTANCE:1
CLASS:PUBLIC
END:VEVENT
END:VCALENDAR
