BEGIN:VCALENDAR
PRODID:-//kirchenweb.ch gmbh//veranstaltungsausgabe v2.0//DE
VERSION:2.0
METHOD:PUBLISH
BEGIN:VEVENT
DTSTART:20261110T130000Z
DTEND:20261110T140000Z
LOCATION:im Kirchgemeindehaus\, Friedhofweg 2\, 3250 Lyss
TRANSP:OPAQUE
SEQUENCE:0
UID:82269-veranstaltung@kirchenregion-aarberg.ch
DTSTAMP:20251105T125310Z
DESCRIPTION:Kontakt: Gerda Schütz\, Tel. 032 384 81 62 und Rosette
  Cicchini\, Tel. 032 384 38 85\n\nWeitere Infos:
  https://www.kirchenregion-aarberg.ch/veranstaltung/82269
SUMMARY:Aktivträff
PRIORITY:5
X-MICROSOFT-CDO-IMPORTANCE:1
CLASS:PUBLIC
END:VEVENT
END:VCALENDAR
