BEGIN:VCALENDAR
PRODID:-//kirchenweb.ch gmbh//veranstaltungsausgabe v2.0//DE
VERSION:2.0
METHOD:PUBLISH
BEGIN:VEVENT
DTSTART:20261130T110000Z
DTEND:20261130T123000Z
LOCATION:Kirchgemeindehaus\, im grossen Saal\, Friedhofweg 2\, 3250 Lyss
TRANSP:OPAQUE
SEQUENCE:0
UID:82247-veranstaltung@kirchenregion-aarberg.ch
DTSTAMP:20260316T101229Z
DESCRIPTION:Wegen der hohen Teilnehmendenzahl ist eine Neuanmeldung resp.
  Abmeldung unumgänglich.\n\nWir danken für das Verständnis\n\nKontakt:
  Sekretariat\, 032 387 17 07\n\nWeitere Infos:
  https://www.kirchenregion-aarberg.ch/veranstaltung/82247
SUMMARY:Mittagstisch
PRIORITY:5
X-MICROSOFT-CDO-IMPORTANCE:1
CLASS:PUBLIC
END:VEVENT
END:VCALENDAR
