BEGIN:VCALENDAR
PRODID:-//kirchenweb.ch gmbh//veranstaltungsausgabe v2.0//DE
VERSION:2.0
METHOD:PUBLISH
BEGIN:VEVENT
DTSTART:20261208T133000Z
DTEND:20261208T160000Z
LOCATION:im Kirchgemeindehaus\, Friedhofweg 2\, 3250 Lyss
TRANSP:OPAQUE
SEQUENCE:0
UID:82238-veranstaltung@kirchenregion-aarberg.ch
DTSTAMP:20250306T101830Z
DESCRIPTION:Kontakt: Erika Zihlmann\, 032 387 17 05\nSekretariat 032 387
  17 07\n\nWeitere Infos:
  https://www.kirchenregion-aarberg.ch/veranstaltung/82238
SUMMARY:Weihnachtsfeier Alters-/Pflegeheime
PRIORITY:5
X-MICROSOFT-CDO-IMPORTANCE:1
CLASS:PUBLIC
END:VEVENT
END:VCALENDAR
