BEGIN:VCALENDAR
PRODID:-//kirchenweb.ch gmbh//veranstaltungsausgabe v2.0//DE
VERSION:2.0
METHOD:PUBLISH
BEGIN:VEVENT
DTSTART:20261211T133000Z
DTEND:20261211T160000Z
LOCATION:im Kirchgemeindehaus\, Friedhofweg 2\, 3250 Lyss
TRANSP:OPAQUE
SEQUENCE:0
UID:82237-veranstaltung@kirchenregion-aarberg.ch
DTSTAMP:20250306T101915Z
DESCRIPTION:Kontakt: Pfrn. Geraldine Walther\nSekretariat 032 387 17 07\n
 \n\nWeitere Infos:
  https://www.kirchenregion-aarberg.ch/veranstaltung/82237
SUMMARY:Weihnachtsfeier Pfarrkreis Grünau
PRIORITY:5
X-MICROSOFT-CDO-IMPORTANCE:1
CLASS:PUBLIC
END:VEVENT
END:VCALENDAR
