BEGIN:VCALENDAR
PRODID:-//kirchenweb.ch gmbh//veranstaltungsausgabe v2.0//DE
VERSION:2.0
METHOD:PUBLISH
BEGIN:VEVENT
DTSTART:20261210T133000Z
DTEND:20261210T160000Z
LOCATION:im Kirchgemeindehaus\, Friedhofweg 2\, 3250 Lyss
TRANSP:OPAQUE
SEQUENCE:0
UID:82236-veranstaltung@kirchenregion-aarberg.ch
DTSTAMP:20250306T101859Z
DESCRIPTION:Kontakt: Pfr. Guido Jutzi\nSekretariat 032 387 17 07\n\n\n
 \nWeitere Infos: https://www.kirchenregion-aarberg.ch/veranstaltung/82236
SUMMARY:Weihnachtsfeier Pfarrkreis Rosengasse
PRIORITY:5
X-MICROSOFT-CDO-IMPORTANCE:1
CLASS:PUBLIC
END:VEVENT
END:VCALENDAR
