BEGIN:VCALENDAR
PRODID:-//kirchenweb.ch gmbh//veranstaltungsausgabe v2.0//DE
VERSION:2.0
METHOD:PUBLISH
BEGIN:VEVENT
DTSTART:20261129T083000Z
DTEND:20261129T093000Z
LOCATION:in der Grossen Kirche\, Kirchgasse 2\, 3250 Lyss
TRANSP:OPAQUE
SEQUENCE:0
UID:81547-veranstaltung@kirchenregion-aarberg.ch
DTSTAMP:20260422T132701Z
DESCRIPTION:An der Orgel spielt Robert Märki \n\nCaféglise im Anschluss
  an den Gottesdienst im alten Pfarrhaus.\n\nKontakt: Pfr. Timon Wasem\n
 \nWeitere Infos: https://www.kirchenregion-aarberg.ch/veranstaltung/81547
SUMMARY:Gottesdienst zum 1. Advent und Amtseinsetzung
PRIORITY:5
X-MICROSOFT-CDO-IMPORTANCE:1
CLASS:PUBLIC
END:VEVENT
END:VCALENDAR
