BEGIN:VCALENDAR
PRODID:-//kirchenweb.ch gmbh//veranstaltungsausgabe v2.0//DE
VERSION:2.0
METHOD:PUBLISH
BEGIN:VEVENT
DTSTART:20261122T083000Z
DTEND:20261122T093000Z
LOCATION:in der Grossen Kirche\, Kirchgasse 2\, 3250 Lyss
TRANSP:OPAQUE
SEQUENCE:0
UID:81546-veranstaltung@kirchenregion-aarberg.ch
DTSTAMP:20260410T091103Z
DESCRIPTION:An der Orgel spielt Robert Märki 
 \nhttps://www.espoir.ch/startseite\nCaféglise im Anschluss an den
  Gottesdienst im alten Pfarrhaus.\n\nKontakt: Pfrn. Geraldine Walther\n
 \nWeitere Infos: https://www.kirchenregion-aarberg.ch/veranstaltung/81546
SUMMARY:Gottesdienst zum Ewigkeitssonntag
PRIORITY:5
X-MICROSOFT-CDO-IMPORTANCE:1
CLASS:PUBLIC
END:VEVENT
END:VCALENDAR
