BEGIN:VCALENDAR
PRODID:-//kirchenweb.ch gmbh//veranstaltungsausgabe v2.0//DE
VERSION:2.0
METHOD:PUBLISH
BEGIN:VEVENT
DTSTART:20261108T083000Z
DTEND:20261108T093000Z
LOCATION:in der Grossen Kirche\, Kirchgasse 2\, 3250 Lyss
TRANSP:OPAQUE
SEQUENCE:0
UID:81544-veranstaltung@kirchenregion-aarberg.ch
DTSTAMP:20260410T090827Z
DESCRIPTION:Mitwirkung Orchester Lyss\nhttps://www.be.winterhilfe.ch/
 \nCaféglise im Anschluss an den Gottesdienst im alten Pfarrhaus.\n
 \nKontakt: Pfr. Timon Wasem\n\nWeitere Infos:
  https://www.kirchenregion-aarberg.ch/veranstaltung/81544
SUMMARY:Gottesdienst
PRIORITY:5
X-MICROSOFT-CDO-IMPORTANCE:1
CLASS:PUBLIC
END:VEVENT
END:VCALENDAR
