BEGIN:VCALENDAR
PRODID:-//kirchenweb.ch gmbh//veranstaltungsausgabe v2.0//DE
VERSION:2.0
METHOD:PUBLISH
BEGIN:VEVENT
DTSTART:20261018T073000Z
DTEND:20261018T083000Z
LOCATION:in der Grossen Kirche\, Kirchgasse 2\, 3250 Lyss
TRANSP:OPAQUE
SEQUENCE:0
UID:81541-veranstaltung@kirchenregion-aarberg.ch
DTSTAMP:20260410T090236Z
DESCRIPTION:An der Orgel spielt Käthi Werder
 \nhttps://kiriat-yearim.ch/de/home/\nCaféglise im Anschluss an den
  Gottesdienst im alten Pfarrhaus.\n\nKontakt: Pfrn. Geraldine Walther\n
 \nWeitere Infos: https://www.kirchenregion-aarberg.ch/veranstaltung/81541
SUMMARY:Gottesdienst
PRIORITY:5
X-MICROSOFT-CDO-IMPORTANCE:1
CLASS:PUBLIC
END:VEVENT
END:VCALENDAR
