BEGIN:VCALENDAR
PRODID:-//kirchenweb.ch gmbh//veranstaltungsausgabe v2.0//DE
VERSION:2.0
METHOD:PUBLISH
BEGIN:VEVENT
DTSTART:20260920T073000Z
DTEND:20260920T083000Z
LOCATION:in der Grossen Kirche\, Kirchgasse 2\, 3250 Lyss
TRANSP:OPAQUE
SEQUENCE:0
UID:81537-veranstaltung@kirchenregion-aarberg.ch
DTSTAMP:20260410T084851Z
DESCRIPTION:An der Orgel spielt Robert Märki \n\nCaféglise im Anschluss
  an den Gottesdienst im alten Pfarrhaus.\n\nKontakt: Pfr. Ueli von Känel
 \n\nWeitere Infos:
  https://www.kirchenregion-aarberg.ch/veranstaltung/81537
SUMMARY:ökumenischer Gottesdienst zum Bettag
PRIORITY:5
X-MICROSOFT-CDO-IMPORTANCE:1
CLASS:PUBLIC
END:VEVENT
END:VCALENDAR
